BEGIN:VCALENDAR
VERSION:2.0
PRODID:-//wp-events-plugin.com//7.2.2.1//EN
TZID:America/Toronto
X-WR-TIMEZONE:America/Toronto
BEGIN:VEVENT
UID:8@isuarsivik.ca
DTSTART;TZID=America/Toronto;VALUE=DATE:20230626
DTEND;TZID=America/Toronto;VALUE=DATE:20230630
DTSTAMP:20230608T090338Z
URL:https://isuarsivik.ca/fr/events/ungammuatuq/
SUMMARY:Ungammuatuq
DESCRIPTION:Ungammuatuq (qui signifie «aller de l’avant» en inuktitut) 
 est la première conférence au Nunavik ouverte à tous les Nunavimmiut. C
 e rassemblement vise à briser la stigmatisation qui entoure la consommati
 on de substances et les dépendances.\n\nPour plus de renseignements : ung
 ammuatuq@ssss.gouv.qc.ca
ATTACH;FMTTYPE=image/jpeg:https://isuarsivik.ca/wp-content/uploads/2023/04
 /IMG-Event-Ungammuatuq.png
END:VEVENT
BEGIN:VTIMEZONE
TZID:America/Toronto
X-LIC-LOCATION:America/Toronto
BEGIN:DAYLIGHT
DTSTART:20230312T030000
TZOFFSETFROM:-0500
TZOFFSETTO:-0400
TZNAME:EDT
END:DAYLIGHT
END:VTIMEZONE
END:VCALENDAR