BEGIN:VCALENDAR
VERSION:2.0
PRODID:-//wp-events-plugin.com//7.2.2.1//EN
TZID:America/Toronto
X-WR-TIMEZONE:America/Toronto
BEGIN:VEVENT
UID:12@isuarsivik.ca
DTSTART;TZID=America/Toronto:20230630T180000
DTEND;TZID=America/Toronto:20230630T180000
DTSTAMP:20230608T091641Z
URL:https://isuarsivik.ca/fr/events/ceremonie-douverture-regionale/
SUMMARY:Cérémonie d’ouverture régionale
DESCRIPTION:À 18 h\, Isuarsivik célébrera l’ouverture régionale de se
 s nouvelles installations en compagnie des Nunavimmiut lors d’un festin 
 communautaire et d’un spectacle de musique au forum de Kuujjuaq.
ATTACH;FMTTYPE=image/jpeg:https://isuarsivik.ca/wp-content/uploads/2023/04
 /IMG-Event-regional-opening-recemony.png
END:VEVENT
BEGIN:VTIMEZONE
TZID:America/Toronto
X-LIC-LOCATION:America/Toronto
BEGIN:DAYLIGHT
DTSTART:20230312T030000
TZOFFSETFROM:-0500
TZOFFSETTO:-0400
TZNAME:EDT
END:DAYLIGHT
END:VTIMEZONE
END:VCALENDAR